BEGIN:VCALENDAR
PRODID:-//kirchenweb.ch gmbh//veranstaltungsausgabe v2.0//DE
VERSION:2.0
METHOD:PUBLISH
BEGIN:VEVENT
DTSTART:20261103T081500Z
DTEND:20261103T100000Z
LOCATION:Saal\, \,
TRANSP:OPAQUE
SEQUENCE:0
UID:1034-veranstaltung@ref-frick.ch
DTSTAMP:20260425T113027Z
DESCRIPTION:Kontakt: ref.frick@ref-frick.ch\n\nWeitere Infos:
  https://www.ref-frick.ch/veranstaltung/1034
SUMMARY:Frauen-Lesegruppe
PRIORITY:5
X-MICROSOFT-CDO-IMPORTANCE:1
CLASS:PUBLIC
END:VEVENT
END:VCALENDAR
