BEGIN:VCALENDAR
PRODID:-//kirchenweb.ch gmbh//veranstaltungsausgabe v2.0//DE
VERSION:2.0
METHOD:PUBLISH
BEGIN:VEVENT
DTSTART:20270228T093000Z
DTEND:20270228T123000Z
LOCATION:Kath. Kirche Wölflinswil\, \,
TRANSP:OPAQUE
SEQUENCE:0
UID:1104-veranstaltung@ref-frick.ch
DTSTAMP:20260420T192028Z
DESCRIPTION:N.N. & Pfr. Matthias Jäggi\n\nKontakt: ref.frick@ref-frick.ch
 \n\nWeitere Infos: https://www.ref-frick.ch/veranstaltung/1104
SUMMARY:Ökum. Gottesdienst zur Kampagne von HEKS/Fastenaktion und
  Suppenzmittag in Wölflinswil
PRIORITY:5
X-MICROSOFT-CDO-IMPORTANCE:1
CLASS:PUBLIC
END:VEVENT
END:VCALENDAR
