BEGIN:VCALENDAR
PRODID:-//kirchenweb.ch gmbh//veranstaltungsausgabe v2.0//DE
VERSION:2.0
METHOD:PUBLISH
BEGIN:VEVENT
DTSTART:20270314T093000Z
DTEND:20270314T123000Z
LOCATION:Kath. Kirche Gipf-Oberfrick\, \,
TRANSP:OPAQUE
SEQUENCE:0
UID:1139-veranstaltung@ref-frick.ch
DTSTAMP:20260425T162027Z
DESCRIPTION:N.N. & Pfr. Matthias Jäggi\n\nKontakt: ref.frick@ref-frick.ch
 \n\nWeitere Infos: https://www.ref-frick.ch/veranstaltung/1139
SUMMARY:Ökumenischer Gottesdienst zur Kampagne von HEKS/Fastenaktion und
  Suppenzmittag in Gipf-Oberfrick
PRIORITY:5
X-MICROSOFT-CDO-IMPORTANCE:1
CLASS:PUBLIC
END:VEVENT
END:VCALENDAR
