BEGIN:VCALENDAR
PRODID:-//kirchenweb.ch gmbh//veranstaltungsausgabe v2.0//DE
VERSION:2.0
METHOD:PUBLISH
BEGIN:VEVENT
DTSTART:20260707T071500Z
DTEND:20260707T090000Z
LOCATION:Saal\, \,
TRANSP:OPAQUE
SEQUENCE:0
UID:1244-veranstaltung@ref-frick.ch
DTSTAMP:20260420T184023Z
DESCRIPTION:Buch: «Einfallende Dämmerung» von Christian Haller\n
 \nKontakt: ref.frick@ref-frick.ch\n\nWeitere Infos:
  https://www.ref-frick.ch/veranstaltung/1244
SUMMARY:Frauen-Lesegruppe
PRIORITY:5
X-MICROSOFT-CDO-IMPORTANCE:1
CLASS:PUBLIC
END:VEVENT
END:VCALENDAR
