BEGIN:VCALENDAR
PRODID:-//kirchenweb.ch gmbh//veranstaltungsausgabe v2.0//DE
VERSION:2.0
METHOD:PUBLISH
BEGIN:VEVENT
DTSTART:20260417T180000Z
DTEND:20260417T184500Z
LOCATION:Kirche\, \,
TRANSP:OPAQUE
SEQUENCE:0
UID:1489-veranstaltung@ref-frick.ch
DTSTAMP:20260420T142018Z
DESCRIPTION:Zusammen beten stärkt die Gemeinschaft\, fördert die
  Beziehung zu Gott und kann in herausfordernden Situationen Kraft und
  Trost schenken. Die Reformierte Kirche Frick lädt deshalb zu einem
  gemeinsamen\, monatlichen Gebet ein. Dieses findet jeweils an einem
  Freitagabend von 20.00 bis 20.45 Uhr in der Kirche statt. Die
  Teilnehmenden entdecken dabei verschiedene Gebetsformen und gestalten den
  Abend so\, wie es für sie passt.\n\nDaten: 17. April\, 22. Mai\, 3.
  Juli\, 14. August\, 25. September.2026\n\nInfo: Silvia Guhl Lawson\,
  silvia.guhl@ref-frick.ch\, 076 433 84 72.\n\nKontakt:
  ref.frick@ref-frick.ch\n\nWeitere Infos:
  https://www.ref-frick.ch/veranstaltung/1489
SUMMARY:Gebet am Freitagabend
PRIORITY:5
X-MICROSOFT-CDO-IMPORTANCE:1
CLASS:PUBLIC
END:VEVENT
END:VCALENDAR
