BEGIN:VCALENDAR
PRODID:-//kirchenweb.ch gmbh//veranstaltungsausgabe v2.0//DE
VERSION:2.0
METHOD:PUBLISH
BEGIN:VEVENT
DTSTART:20260419T080000Z
DTEND:20260419T090000Z
LOCATION:Ref. Kirche Frick\, \,
TRANSP:OPAQUE
SEQUENCE:0
UID:1490-veranstaltung@ref-frick.ch
DTSTAMP:20260420T124020Z
DESCRIPTION:Zum Abschluss des Frühlingsferienplauschs feiern wir einen
  Gottesdienst für Gross und Klein. Wie schon während der Woche wird sich
  alles um die vier Elemente Erde\, Wasser\, Luft und Feuer drehen. Die
  Kinder und das Team werden Lieder dazu singen und die Feier auch sonst
  mitgestalten. Pfr. Matthias Jäggi wird von der Super-Kraft erzählen\,
  mit der Gott die vier Elemente von allem Anfang an ausgestattet hat. Nach
  dem Gottesdienst stärken wir uns bei einem leckeren Apéro.\n\nKollekte:
  Tel. 147\, Pro Juventute\n\nKontakt: ref.frick@ref-frick.ch\n\nWeitere
  Infos: https://www.ref-frick.ch/veranstaltung/1490
SUMMARY:Die Kraft der Vier - Gottesdienst für Gross und Klein
PRIORITY:5
X-MICROSOFT-CDO-IMPORTANCE:1
CLASS:PUBLIC
END:VEVENT
END:VCALENDAR
