BEGIN:VCALENDAR
PRODID:-//kirchenweb.ch gmbh//veranstaltungsausgabe v2.0//DE
VERSION:2.0
METHOD:PUBLISH
BEGIN:VEVENT
DTSTART:20260425T070000Z
DTEND:20260425T160000Z
LOCATION:Kirchgemeindehaus Frick\, \,
TRANSP:OPAQUE
SEQUENCE:0
UID:1493-veranstaltung@ref-frick.ch
DTSTAMP:20260420T124020Z
DESCRIPTION:Kontakt: ref.frick@ref-frick.ch\n\nWeitere Infos:
  https://www.ref-frick.ch/veranstaltung/1493
SUMMARY:Letzte Hilfe-Kurs
PRIORITY:5
X-MICROSOFT-CDO-IMPORTANCE:1
CLASS:PUBLIC
END:VEVENT
END:VCALENDAR
