BEGIN:VCALENDAR
PRODID:-//kirchenweb.ch gmbh//veranstaltungsausgabe v2.0//DE
VERSION:2.0
METHOD:PUBLISH
BEGIN:VEVENT
DTSTART:20260426T073000Z
DTEND:20260426T083000Z
LOCATION:Ref. Kirche Frick\, \,
TRANSP:OPAQUE
SEQUENCE:0
UID:1494-veranstaltung@ref-frick.ch
DTSTAMP:20260420T123018Z
DESCRIPTION:Christian Vogt\, Pfarrer\nTeun Braken\, Organist\n\nKollekte:
  Kinderwerk Lima\n\nKontakt: ref.frick@ref-frick.ch\n\nWeitere Infos:
  https://www.ref-frick.ch/veranstaltung/1494
SUMMARY:Gottesdienst mit Taufe Maleo Reimann
PRIORITY:5
X-MICROSOFT-CDO-IMPORTANCE:1
CLASS:PUBLIC
END:VEVENT
END:VCALENDAR
