BEGIN:VCALENDAR
PRODID:-//kirchenweb.ch gmbh//veranstaltungsausgabe v2.0//DE
VERSION:2.0
METHOD:PUBLISH
BEGIN:VEVENT
DTSTART:20260503T080000Z
DTEND:20260503T093000Z
LOCATION:Ref. Kirche Frick\, \,
TRANSP:OPAQUE
SEQUENCE:0
UID:1498-veranstaltung@ref-frick.ch
DTSTAMP:20260420T154019Z
DESCRIPTION:Ute Baldinger\, Katechetin\nTeun Braken\, Organist\n
 \nanschliessend Ständchen von Markus und Gabriel Hauenstein und Apéro\n
 \nKollekte: 1/2 kirchliche Jugendarbeit der Kirchgemeinde / 1/2
  Jugendarbeit Ref. Landeskirche Aargau CEVI (Kantonale Kollekte)\n
 \nKontakt: ref.frick@ref-frick.ch\n\nWeitere Infos:
  https://www.ref-frick.ch/veranstaltung/1498
SUMMARY:Konfirmationsgottesdienst der Gruppe von Ute Baldinger
PRIORITY:5
X-MICROSOFT-CDO-IMPORTANCE:1
CLASS:PUBLIC
END:VEVENT
END:VCALENDAR
