BEGIN:VCALENDAR
PRODID:-//kirchenweb.ch gmbh//veranstaltungsausgabe v2.0//DE
VERSION:2.0
METHOD:PUBLISH
BEGIN:VEVENT
DTSTART:20260504T170000Z
DTEND:20260504T183000Z
LOCATION:Ref. Kirche Frick\, \,
TRANSP:OPAQUE
SEQUENCE:0
UID:1499-veranstaltung@ref-frick.ch
DTSTAMP:20260420T124021Z
DESCRIPTION:«Trotz Gewalt und Unrecht den Frieden suchen»\n\nDie
  palästinensische Christin\, Friedenspädagogin und Autorin Sumaya Farhat
  Naser ist Anfang Mai für einen Vortrag mit Gespräch zu Gast in der
  Reformierten Kirche Frick. Sie schreibt zum geplanten Besuch: «Ich werde
  über die Lage bei uns berichten\, wo wir wie nie zuvor um unser Dasein
  und Überleben bangen. Zudem werde ich über meine Arbeit mit Frauen und
  Jugendlichen sprechen\, und über unser Bemühen\, trotz Gewalt und
  Unrecht Mensch zu bleiben\, den Frieden zu suchen und die Hoffnung zu
  behalten. Anschliessend Apéro und Büchertisch. Eintritt frei\,
  Kollekte. Info: Pfr. Matthias Jäggi\, 062 871 51 08.\n\nKontakt:
  ref.frick@ref-frick.ch\n\nWeitere Infos:
  https://www.ref-frick.ch/veranstaltung/1499
SUMMARY:Begegnung mit Sumaya Farhat-Naser
PRIORITY:5
X-MICROSOFT-CDO-IMPORTANCE:1
CLASS:PUBLIC
END:VEVENT
END:VCALENDAR
