BEGIN:VCALENDAR
PRODID:-//kirchenweb.ch gmbh//veranstaltungsausgabe v2.0//DE
VERSION:2.0
METHOD:PUBLISH
BEGIN:VEVENT
DTSTART:20260510T083000Z
DTEND:20260510T093000Z
LOCATION:Kath. Kirche Wittnau\, \,
TRANSP:OPAQUE
SEQUENCE:0
UID:1504-veranstaltung@ref-frick.ch
DTSTAMP:20260420T151019Z
DESCRIPTION:Matthias Jäggi\, Pfarrer\nChristoph Küng\, Gemeindeleiter\n
 \nMitwirkung:\n\nKollekte:\n\nKontakt: ref.frick@ref-frick.ch\n\nWeitere
  Infos: https://www.ref-frick.ch/veranstaltung/1504
SUMMARY:ökum. Gottesdienst zum Muttertag
PRIORITY:5
X-MICROSOFT-CDO-IMPORTANCE:1
CLASS:PUBLIC
END:VEVENT
END:VCALENDAR
