BEGIN:VCALENDAR
PRODID:-//kirchenweb.ch gmbh//veranstaltungsausgabe v2.0//DE
VERSION:2.0
METHOD:PUBLISH
BEGIN:VEVENT
DTSTART:20260512T120000Z
DTEND:20260512T140000Z
LOCATION:Ausflug\, \,
TRANSP:OPAQUE
SEQUENCE:0
UID:1505-veranstaltung@ref-frick.ch
DTSTAMP:20260420T142019Z
DESCRIPTION:Kontakt: ref.frick@ref-frick.ch\n\nWeitere Infos:
  https://www.ref-frick.ch/veranstaltung/1505
SUMMARY:Begegnungsnachmittag und 12x12
PRIORITY:5
X-MICROSOFT-CDO-IMPORTANCE:1
CLASS:PUBLIC
END:VEVENT
END:VCALENDAR
