BEGIN:VCALENDAR
PRODID:-//kirchenweb.ch gmbh//veranstaltungsausgabe v2.0//DE
VERSION:2.0
METHOD:PUBLISH
BEGIN:VEVENT
DTSTART:20260517T080000Z
DTEND:20260517T093000Z
LOCATION:Ref. Kirche Frick\, \,
TRANSP:OPAQUE
SEQUENCE:0
UID:1511-veranstaltung@ref-frick.ch
DTSTAMP:20260420T160019Z
DESCRIPTION:Matthias Jäggi\, Pfarrer und Stephanie Krieger\, Vikarin
 \nTeun Braken\, Organist\n\nStändchen der Musikgesellschaft
  Gipf-Oberfrick und Apéro\n\nKollekte: 1/2 kirchliche Jugendarbeit der
  Kirchgemeinde / 1/2 Jugendarbeit Ref. Landeskirche Aargau CEVI (Kantonale
  Kollekte)\n\nKontakt: ref.frick@ref-frick.ch\n\nWeitere Infos:
  https://www.ref-frick.ch/veranstaltung/1511
SUMMARY:Konfirmationsgottesdienst der Gruppe von Pfr. Matthias Jäggi und
  Vikarin Stephanie Krieger
PRIORITY:5
X-MICROSOFT-CDO-IMPORTANCE:1
CLASS:PUBLIC
END:VEVENT
END:VCALENDAR
