BEGIN:VCALENDAR
PRODID:-//kirchenweb.ch gmbh//veranstaltungsausgabe v2.0//DE
VERSION:2.0
METHOD:PUBLISH
BEGIN:VEVENT
DTSTART:20260519T153000Z
DTEND:20260519T180000Z
LOCATION:Kirchgemeindehaus Frick\, \,
TRANSP:OPAQUE
SEQUENCE:0
UID:1512-veranstaltung@ref-frick.ch
DTSTAMP:20260420T190019Z
DESCRIPTION:Kontakt: ref.frick@ref-frick.ch\n\nWeitere Infos:
  https://www.ref-frick.ch/veranstaltung/1512
SUMMARY:Konf 1: Bogenschiessen Gruppe B
PRIORITY:5
X-MICROSOFT-CDO-IMPORTANCE:1
CLASS:PUBLIC
END:VEVENT
END:VCALENDAR
