BEGIN:VCALENDAR
PRODID:-//kirchenweb.ch gmbh//veranstaltungsausgabe v2.0//DE
VERSION:2.0
METHOD:PUBLISH
BEGIN:VEVENT
DTSTART:20260520T114000Z
DTEND:20260520T160000Z
LOCATION:Basel Münster\, \,
TRANSP:OPAQUE
SEQUENCE:0
UID:1513-veranstaltung@ref-frick.ch
DTSTAMP:20260420T202018Z
DESCRIPTION:Kontakt: ref.frick@ref-frick.ch\n\nWeitere Infos:
  https://www.ref-frick.ch/veranstaltung/1513
SUMMARY:5. Klasse: Religionsunterricht
PRIORITY:5
X-MICROSOFT-CDO-IMPORTANCE:1
CLASS:PUBLIC
END:VEVENT
END:VCALENDAR
