BEGIN:VCALENDAR
PRODID:-//kirchenweb.ch gmbh//veranstaltungsausgabe v2.0//DE
VERSION:2.0
METHOD:PUBLISH
BEGIN:VEVENT
DTSTART:20260607T073000Z
DTEND:20260607T083000Z
LOCATION:Ref. Kirche Frick\, \,
TRANSP:OPAQUE
SEQUENCE:0
UID:1524-veranstaltung@ref-frick.ch
DTSTAMP:20260420T174020Z
DESCRIPTION:Liturgie/Predigt: Matthias Jäggi\, Pfarrer\nMusik:
  Akkordeon-Orchester Frick\n\nKollekte: www.selbsthilfezentrum-ag.ch\n
 \nKontakt: ref.frick@ref-frick.ch\n\nWeitere Infos:
  https://www.ref-frick.ch/veranstaltung/1524
SUMMARY:Gottesdienst\, Akkordeon-Orchester Frick
PRIORITY:5
X-MICROSOFT-CDO-IMPORTANCE:1
CLASS:PUBLIC
END:VEVENT
END:VCALENDAR
