BEGIN:VCALENDAR
PRODID:-//kirchenweb.ch gmbh//veranstaltungsausgabe v2.0//DE
VERSION:2.0
METHOD:PUBLISH
BEGIN:VEVENT
DTSTART:20260613T103000Z
DTEND:20260613T140000Z
LOCATION:Ref. Kirche Frick\, \,
TRANSP:OPAQUE
SEQUENCE:0
UID:1530-veranstaltung@ref-frick.ch
DTSTAMP:20260420T154021Z
DESCRIPTION:Kontakt: ref.frick@ref-frick.ch\n\nWeitere Infos:
  https://www.ref-frick.ch/veranstaltung/1530
SUMMARY:Konf 1: Workshop MBF
PRIORITY:5
X-MICROSOFT-CDO-IMPORTANCE:1
CLASS:PUBLIC
END:VEVENT
END:VCALENDAR
