BEGIN:VCALENDAR
PRODID:-//kirchenweb.ch gmbh//veranstaltungsausgabe v2.0//DE
VERSION:2.0
METHOD:PUBLISH
BEGIN:VEVENT
DTSTART:20260617T170000Z
DTEND:20260617T180000Z
LOCATION:Saal (Mühlerain 10\, Frick\, Aargau 5070\, CH)\, \,
TRANSP:OPAQUE
SEQUENCE:0
UID:1533-veranstaltung@ref-frick.ch
DTSTAMP:20260420T200030Z
DESCRIPTION:Singen macht Freude\, verbindet Menschen und tut Körper und
  Seele gut. Darum laden wir einmal im Monat zu einem offenen Singen für
  alle ein\, die gerne singen. Dabei gilt: Man muss nicht perfekt singen
  können - die Freude am Singen genügt.\nGemeinsam entdecken wir die
  Kraft der Musik. Beim Singen kommen Menschen zusammen\, atmen auf\,
  lachen miteinander und lassen den Alltag für einen Moment hinter sich.
  Studien zeigen: Singen stärkt die Gesundheit\, hebt die Stimmung und
  schafft Gemeinschaft.\nDas Repertoire ist bunt gemischt. Wir singen
  Lieder aus dem kirchlichen Bereich - zum Beispiel aus dem Rise Up Plus -
  ebenso wie bekannte Melodien aus Pop\, Volksliedern oder Schlager.
  Vielleicht ist auch das eine oder andere Lied dabei\, das Erinnerungen
  weckt oder neue Lieblingslieder entstehen lässt.\nBegleitet wird das
  offene Singen von Dieter Wagner\, Kantor\, der die Lieder am Klavier
  anstimmt und musikalisch durch den Abend führt.\nDas offene Singen
  findet einmal im Monat statt und dauert etwa eine Stunde.\nAlle sind
  herzlich eingeladen - einfach kommen und mitsingen!\n\nKontakt:
  ref.frick@ref-frick.ch\n\nWeitere Infos:
  https://www.ref-frick.ch/veranstaltung/1533
SUMMARY:Offenes Singen
PRIORITY:5
X-MICROSOFT-CDO-IMPORTANCE:1
CLASS:PUBLIC
END:VEVENT
END:VCALENDAR
