BEGIN:VCALENDAR
PRODID:-//kirchenweb.ch gmbh//veranstaltungsausgabe v2.0//DE
VERSION:2.0
METHOD:PUBLISH
BEGIN:VEVENT
DTSTART:20260621T073000Z
DTEND:20260621T083000Z
LOCATION:Ref. Kirche Frick\, \,
TRANSP:OPAQUE
SEQUENCE:0
UID:1535-veranstaltung@ref-frick.ch
DTSTAMP:20260420T172025Z
DESCRIPTION:Stephie Krieger\, Vikarin\nDieter Wagner\, Kantor\n
 \nMusikalische Mitwirkung: Joyfulvoices.ch\n\nVerabschiedung von Vikarin
  Stephanie Krieger\n\nAnschliessend Apéro\n\nKollekte: HEKS
  (Flüchtlingsarbeit im In- und Ausland) Kantonale Kollekte\n\nKontakt:
  ref.frick@ref-frick.ch\n\nWeitere Infos:
  https://www.ref-frick.ch/veranstaltung/1535
SUMMARY:Gottesdienst
PRIORITY:5
X-MICROSOFT-CDO-IMPORTANCE:1
CLASS:PUBLIC
END:VEVENT
END:VCALENDAR
