BEGIN:VCALENDAR
PRODID:-//kirchenweb.ch gmbh//veranstaltungsausgabe v2.0//DE
VERSION:2.0
METHOD:PUBLISH
BEGIN:VEVENT
DTSTART:20260628T083000Z
DTEND:20260628T093000Z
LOCATION:Chorntal Gipf-Oberfrick\, \,
TRANSP:OPAQUE
SEQUENCE:0
UID:1539-veranstaltung@ref-frick.ch
DTSTAMP:20260420T185020Z
DESCRIPTION:Matthias Jäggi\, Pfarrer und Martin Linzmeier\,
  Gemeindeleiter\n\nMitwirkung:\nAnschliessend gemeinsames Bräteln\n
 \nKollekte:\n\nKontakt: ref.frick@ref-frick.ch\n\nWeitere Infos:
  https://www.ref-frick.ch/veranstaltung/1539
SUMMARY:ökum. Waldgottesdienst Gipf-Oberfrick
PRIORITY:5
X-MICROSOFT-CDO-IMPORTANCE:1
CLASS:PUBLIC
END:VEVENT
END:VCALENDAR
