BEGIN:VCALENDAR
PRODID:-//kirchenweb.ch gmbh//veranstaltungsausgabe v2.0//DE
VERSION:2.0
METHOD:PUBLISH
BEGIN:VEVENT
DTSTART:20260715T163000Z
DTEND:20260715T190000Z
LOCATION:Pfarrhausgarten Frick\, \,
TRANSP:OPAQUE
SEQUENCE:0
UID:1545-veranstaltung@ref-frick.ch
DTSTAMP:20260420T141023Z
DESCRIPTION:Wir schiessen Bogen und grillieren anschliessend das
  mitgebrachte Grillgut. Für die Getränke sorgt die Pfarrfamilie.
 \nAnmeldung unter: Tel. 062 871 12 73 oder christian.vogt@ref-frick.ch\n
 \nKontakt: ref.frick@ref-frick.ch\n\nWeitere Infos:
  https://www.ref-frick.ch/veranstaltung/1545
SUMMARY:Meditatives Bogenschiessen mit Grillieren
PRIORITY:5
X-MICROSOFT-CDO-IMPORTANCE:1
CLASS:PUBLIC
END:VEVENT
END:VCALENDAR
