BEGIN:VCALENDAR
PRODID:-//kirchenweb.ch gmbh//veranstaltungsausgabe v2.0//DE
VERSION:2.0
METHOD:PUBLISH
BEGIN:VEVENT
DTSTART:20260807T080000Z
DTEND:20260807T140000Z
LOCATION:\, \,
TRANSP:OPAQUE
SEQUENCE:0
UID:1549-veranstaltung@ref-frick.ch
DTSTAMP:20260420T215020Z
DESCRIPTION:Kontakt: ref.frick@ref-frick.ch\n\nWeitere Infos:
  https://www.ref-frick.ch/veranstaltung/1549
SUMMARY:Sommertag PAUSE
PRIORITY:5
X-MICROSOFT-CDO-IMPORTANCE:1
CLASS:PUBLIC
END:VEVENT
END:VCALENDAR
