BEGIN:VCALENDAR
PRODID:-//kirchenweb.ch gmbh//veranstaltungsausgabe v2.0//DE
VERSION:2.0
METHOD:PUBLISH
BEGIN:VEVENT
DTSTART:20260809T073000Z
DTEND:20260809T083000Z
LOCATION:Ref. Kirche Frick\, \,
TRANSP:OPAQUE
SEQUENCE:0
UID:1551-veranstaltung@ref-frick.ch
DTSTAMP:20260420T190021Z
DESCRIPTION:Matthias Jäggi\, Pfarrer\nDieter Wagner\, Kantor\n\nKollekte:
  Mission 21 (Kantonale Kollekte)\n\nKontakt: ref.frick@ref-frick.ch\n
 \nWeitere Infos: https://www.ref-frick.ch/veranstaltung/1551
SUMMARY:Gottesdienst mit Abendmahl
PRIORITY:5
X-MICROSOFT-CDO-IMPORTANCE:1
CLASS:PUBLIC
END:VEVENT
END:VCALENDAR
