BEGIN:VCALENDAR
PRODID:-//kirchenweb.ch gmbh//veranstaltungsausgabe v2.0//DE
VERSION:2.0
METHOD:PUBLISH
BEGIN:VEVENT
DTSTART:20260812T070000Z
DTEND:20260812T153000Z
LOCATION:\, \,
TRANSP:OPAQUE
SEQUENCE:0
UID:1554-veranstaltung@ref-frick.ch
DTSTAMP:20260420T140028Z
DESCRIPTION:Kontakt: ref.frick@ref-frick.ch\n\nWeitere Infos:
  https://www.ref-frick.ch/veranstaltung/1554
SUMMARY:12x12 Ausflüge: Ballenberg
PRIORITY:5
X-MICROSOFT-CDO-IMPORTANCE:1
CLASS:PUBLIC
END:VEVENT
END:VCALENDAR
