BEGIN:VCALENDAR
PRODID:-//kirchenweb.ch gmbh//veranstaltungsausgabe v2.0//DE
VERSION:2.0
METHOD:PUBLISH
BEGIN:VEVENT
DTSTART:20260830T083000Z
DTEND:20260830T093000Z
LOCATION:Kornberg\, \,
TRANSP:OPAQUE
SEQUENCE:0
UID:1566-veranstaltung@ref-frick.ch
DTSTAMP:20260420T173021Z
DESCRIPTION:Matthias Jäggi\, Pfarrer\nMitwirkung: Musikgesellschaft
  Herznach-Ueken\n\nAnschliessend Apéro und Gelegenheit zum bräteln\n
 \nKollekte: Escuela Rayito de Luz\, Nicaragua\n\nKontakt:
  ref.frick@ref-frick.ch\n\nWeitere Infos:
  https://www.ref-frick.ch/veranstaltung/1566
SUMMARY:Freiluft-Gottesdienst auf dem Kornberg
PRIORITY:5
X-MICROSOFT-CDO-IMPORTANCE:1
CLASS:PUBLIC
END:VEVENT
END:VCALENDAR
