BEGIN:VCALENDAR
PRODID:-//kirchenweb.ch gmbh//veranstaltungsausgabe v2.0//DE
VERSION:2.0
METHOD:PUBLISH
BEGIN:VEVENT
DTSTART:20260906T073000Z
DTEND:20260906T083000Z
LOCATION:Ref. Kirche Frick\, \,
TRANSP:OPAQUE
SEQUENCE:0
UID:1571-veranstaltung@ref-frick.ch
DTSTAMP:20260420T175021Z
DESCRIPTION:Christian Vogt\, Pfarrer\nDieter Wagner\, Kantor
 \nAnschliessend Apéro\n\nMitwirkung: Joyfulvoices.ch\n\nKollekte:
  Frauenzentrale Aargau\n\nKontakt: ref.frick@ref-frick.ch\n\nWeitere
  Infos: https://www.ref-frick.ch/veranstaltung/1571
SUMMARY:Gottesdienst
PRIORITY:5
X-MICROSOFT-CDO-IMPORTANCE:1
CLASS:PUBLIC
END:VEVENT
END:VCALENDAR
