BEGIN:VCALENDAR
PRODID:-//kirchenweb.ch gmbh//veranstaltungsausgabe v2.0//DE
VERSION:2.0
METHOD:PUBLISH
BEGIN:VEVENT
DTSTART:20260912T150000Z
DTEND:20260912T160000Z
LOCATION:Ref. Kirche Frick\, \,
TRANSP:OPAQUE
SEQUENCE:0
UID:1575-veranstaltung@ref-frick.ch
DTSTAMP:20260420T153022Z
DESCRIPTION:Matthias Jäggi\, Pfarrer\nTeun Braken\, Organist\n
 \nAnschliessend Apéro\n\nKollekte: Schneller Schulen\n\nKontakt:
  ref.frick@ref-frick.ch\n\nWeitere Infos:
  https://www.ref-frick.ch/veranstaltung/1575
SUMMARY:Gottesdienst am Samstagabend
PRIORITY:5
X-MICROSOFT-CDO-IMPORTANCE:1
CLASS:PUBLIC
END:VEVENT
END:VCALENDAR
