BEGIN:VCALENDAR
PRODID:-//kirchenweb.ch gmbh//veranstaltungsausgabe v2.0//DE
VERSION:2.0
METHOD:PUBLISH
BEGIN:VEVENT
DTSTART:20260923T120000Z
DTEND:20260923T143000Z
LOCATION:\, \,
TRANSP:OPAQUE
SEQUENCE:0
UID:1578-veranstaltung@ref-frick.ch
DTSTAMP:20260420T205023Z
DESCRIPTION:Kontakt: ref.frick@ref-frick.ch\n\nWeitere Infos:
  https://www.ref-frick.ch/veranstaltung/1578
SUMMARY:Religionsunterricht 3. Klasse
PRIORITY:5
X-MICROSOFT-CDO-IMPORTANCE:1
CLASS:PUBLIC
END:VEVENT
END:VCALENDAR
