BEGIN:VCALENDAR
PRODID:-//kirchenweb.ch gmbh//veranstaltungsausgabe v2.0//DE
VERSION:2.0
METHOD:PUBLISH
BEGIN:VEVENT
DTSTART:20260927T080000Z
DTEND:20260927T090000Z
LOCATION:Kath. Kirche Herznach\, \,
TRANSP:OPAQUE
SEQUENCE:0
UID:1582-veranstaltung@ref-frick.ch
DTSTAMP:20260420T154024Z
DESCRIPTION:Christian Vogt\, Pfarrer\nDieter Wagner\, Kantor\n\nKollekte:
 \n\nKontakt: ref.frick@ref-frick.ch\n\nWeitere Infos:
  https://www.ref-frick.ch/veranstaltung/1582
SUMMARY:ökum. Gottesdienst zum Erntedank
PRIORITY:5
X-MICROSOFT-CDO-IMPORTANCE:1
CLASS:PUBLIC
END:VEVENT
END:VCALENDAR
