BEGIN:VCALENDAR
PRODID:-//kirchenweb.ch gmbh//veranstaltungsausgabe v2.0//DE
VERSION:2.0
METHOD:PUBLISH
BEGIN:VEVENT
DTSTART:20261011T073000Z
DTEND:20261011T083000Z
LOCATION:Ref. Kirche Frick\, \,
TRANSP:OPAQUE
SEQUENCE:0
UID:1584-veranstaltung@ref-frick.ch
DTSTAMP:20260420T174023Z
DESCRIPTION:Matthias Jäggi\, Pfarrer\nTeun Braken\, Organist\n\nKollekte:
  Stiftung Diakonie-Rappen (Kantonale Kollekte)\n\nKontakt:
  ref.frick@ref-frick.ch\n\nWeitere Infos:
  https://www.ref-frick.ch/veranstaltung/1584
SUMMARY:Gottesdienst
PRIORITY:5
X-MICROSOFT-CDO-IMPORTANCE:1
CLASS:PUBLIC
END:VEVENT
END:VCALENDAR
