BEGIN:VCALENDAR
PRODID:-//kirchenweb.ch gmbh//veranstaltungsausgabe v2.0//DE
VERSION:2.0
METHOD:PUBLISH
BEGIN:VEVENT
DTSTART:20261024T083000Z
DTEND:20261024T110000Z
LOCATION:Pfarrhausgarten Frick\, \,
TRANSP:OPAQUE
SEQUENCE:0
UID:1594-veranstaltung@ref-frick.ch
DTSTAMP:20260420T142024Z
DESCRIPTION:Die innere Mitte finden - Meditatives Bogenschiessen mit
  christlichen Impulsen\n\nMit jedem Atemzug zur Ruhe kommen. Spannen.
  Zielen. Loslassen. Beim meditativen Bogenschiessen verbinden sich
  Körperwahrnehmung\, Achtsamkeit und Spiritualität zu einer
  ganzheitlichen Erfahrung. Es geht nicht um sportliche Leistung\, sondern
  um das Erleben des Augenblicks - um das Zusammenspiel von Spannung und
  Entspannung\, von Ziel und Gegenwart\, von Festhalten und Loslassen.\n
 \nBogenschiessen fördert die geistigen\, körperlichen\, emotionalen und
  spirituellen Fähigkeiten. Es hilft\, den eigenen Rhythmus zu finden\,
  die Konzentration zu stärken\, Druck abzubauen und wieder neu ins
  Gleichgewicht zu kommen. Dabei können innere Bilder auftauchen\, Ziele
  sichtbar werden - und manchmal zeigen sich auch ungelöste Spannungen
  oder Fragen\, die wir mit uns tragen.\n\nIn dieser Übung geht es um
  Selbsterfahrung und persönliche Entwicklung. Begleitet wird das Angebot
  von kurzen Impulsen aus der christlich-abendländischen Tradition\, die
  zum Nachdenken anregen und spirituelle Räume öffnen. Glaube\, Vertrauen
  und das innere Zielen treten in einen Dialog - leise\, achtsam und offen
  für das\, was sich zeigen will.\n\nWir schiessen mit leichten Bögen auf
  kurze Distanz im Garten des Pfarrhauses. Die Ausrüstung (traditioneller
  Langbogen oder moderner Take-Down-Bogen - jeweils ohne Zieleinrichtung
  oder Stabilisatoren) wird vollständig zur Verfügung gestellt.\n\nBitte
  dem Wetter angepasste Kleidung tragen und gegebenenfalls Ersatzschuhe
  mitbringen - wir sind draussen im Freien.\n\nKontakt:
  ref.frick@ref-frick.ch\n\nWeitere Infos:
  https://www.ref-frick.ch/veranstaltung/1594
SUMMARY:Meditatives Bogenschiessen
PRIORITY:5
X-MICROSOFT-CDO-IMPORTANCE:1
CLASS:PUBLIC
END:VEVENT
END:VCALENDAR
