BEGIN:VCALENDAR
PRODID:-//kirchenweb.ch gmbh//veranstaltungsausgabe v2.0//DE
VERSION:2.0
METHOD:PUBLISH
BEGIN:VEVENT
DTSTART:20261025T083000Z
DTEND:20261025T093000Z
LOCATION:Ref. Kirche Frick\, \,
TRANSP:OPAQUE
SEQUENCE:0
UID:1595-veranstaltung@ref-frick.ch
DTSTAMP:20260420T154025Z
DESCRIPTION:Christian Vogt\, Pfarrer\nTeun Braken\, Organist\n\nKollekte:
  Rumänienhilfe Wegenstetten\n\nKontakt: ref.frick@ref-frick.ch\n\nWeitere
  Infos: https://www.ref-frick.ch/veranstaltung/1595
SUMMARY:Gottesdienst
PRIORITY:5
X-MICROSOFT-CDO-IMPORTANCE:1
CLASS:PUBLIC
END:VEVENT
END:VCALENDAR
