BEGIN:VCALENDAR
PRODID:-//kirchenweb.ch gmbh//veranstaltungsausgabe v2.0//DE
VERSION:2.0
METHOD:PUBLISH
BEGIN:VEVENT
DTSTART:20261029T090000Z
DTEND:20261029T110000Z
LOCATION:Microsoft Teams-Besprechung\, \,
TRANSP:OPAQUE
SEQUENCE:0
UID:1598-veranstaltung@ref-frick.ch
DTSTAMP:20260420T215023Z
DESCRIPTION:______________________________________________________________
 __________________\nMicrosoft Teams Benötigen Sie Hilfe?\nJetzt an der
  Besprechung teilnehmen\nBesprechungs-ID: 322 082 930 685 68\nPasscode:
  e4VS6vy3\n________________________________\nFür Organisatoren:
  Besprechungsoptionen
 \n________________________________________________________________________
 ________\n\nKontakt: ref.frick@ref-frick.ch\n\nWeitere Infos:
  https://www.ref-frick.ch/veranstaltung/1598
SUMMARY:Netzwerk Altersfachorganisationen Fricktal
PRIORITY:5
X-MICROSOFT-CDO-IMPORTANCE:1
CLASS:PUBLIC
END:VEVENT
END:VCALENDAR
