BEGIN:VCALENDAR
PRODID:-//kirchenweb.ch gmbh//veranstaltungsausgabe v2.0//DE
VERSION:2.0
METHOD:PUBLISH
BEGIN:VEVENT
DTSTART:20261108T083000Z
DTEND:20261108T093000Z
LOCATION:Ref. Kirche Frick\, \,
TRANSP:OPAQUE
SEQUENCE:0
UID:1605-veranstaltung@ref-frick.ch
DTSTAMP:20260420T212023Z
DESCRIPTION:Christian Vogt\, Pfarrer\nDieter Wagner\, Kantor\n
 \nMitwirkung: Joyfulvoices.ch\n\nAnschliessend Apéro\nKollekte: kirchlich
  Regionaler Sozialdienst KRSD\n\nKontakt: ref.frick@ref-frick.ch\n
 \nWeitere Infos: https://www.ref-frick.ch/veranstaltung/1605
SUMMARY:Gottesdienst
PRIORITY:5
X-MICROSOFT-CDO-IMPORTANCE:1
CLASS:PUBLIC
END:VEVENT
END:VCALENDAR
