BEGIN:VCALENDAR
PRODID:-//kirchenweb.ch gmbh//veranstaltungsausgabe v2.0//DE
VERSION:2.0
METHOD:PUBLISH
BEGIN:VEVENT
DTSTART:20261110T130000Z
DTEND:20261110T150000Z
LOCATION:Kirchgemeindehaus Frick\, \,
TRANSP:OPAQUE
SEQUENCE:0
UID:1606-veranstaltung@ref-frick.ch
DTSTAMP:20260420T142025Z
DESCRIPTION:Kontakt: ref.frick@ref-frick.ch\n\nWeitere Infos:
  https://www.ref-frick.ch/veranstaltung/1606
SUMMARY:Begegnungsnachmittag
PRIORITY:5
X-MICROSOFT-CDO-IMPORTANCE:1
CLASS:PUBLIC
END:VEVENT
END:VCALENDAR
