BEGIN:VCALENDAR
PRODID:-//kirchenweb.ch gmbh//veranstaltungsausgabe v2.0//DE
VERSION:2.0
METHOD:PUBLISH
BEGIN:VEVENT
DTSTART:20261112T110000Z
DTEND:20261112T120000Z
LOCATION:Kath. Kirche Frick (Rampartsaal)\, \,
TRANSP:OPAQUE
SEQUENCE:0
UID:1608-veranstaltung@ref-frick.ch
DTSTAMP:20260420T154026Z
DESCRIPTION:Vier aufgestellte und ideenreiche Teams kochen abwechselnd
  für Sie! Kosten: Erwachsenen Fr. 10.-- / Schulkinder Fr. 5.-- /
  Vorschulkinder gratis\n\nAnmeldung bis Dienstagabend 17.00 Uhr\n062 871
  11 58\n\nKontakt: ref.frick@ref-frick.ch\n\nWeitere Infos:
  https://www.ref-frick.ch/veranstaltung/1608
SUMMARY:Ökumenischer Mittagstisch Frick
PRIORITY:5
X-MICROSOFT-CDO-IMPORTANCE:1
CLASS:PUBLIC
END:VEVENT
END:VCALENDAR
