BEGIN:VCALENDAR
PRODID:-//kirchenweb.ch gmbh//veranstaltungsausgabe v2.0//DE
VERSION:2.0
METHOD:PUBLISH
BEGIN:VEVENT
DTSTART:20261208T110000Z
DTEND:20261208T140000Z
LOCATION:Kirchgemeindehaus Frick\, \,
TRANSP:OPAQUE
SEQUENCE:0
UID:1627-veranstaltung@ref-frick.ch
DTSTAMP:20260420T142026Z
DESCRIPTION:Kontakt: ref.frick@ref-frick.ch\n\nWeitere Infos:
  https://www.ref-frick.ch/veranstaltung/1627
SUMMARY:Begegnungsnachmittag
PRIORITY:5
X-MICROSOFT-CDO-IMPORTANCE:1
CLASS:PUBLIC
END:VEVENT
END:VCALENDAR
