BEGIN:VCALENDAR
PRODID:-//kirchenweb.ch gmbh//veranstaltungsausgabe v2.0//DE
VERSION:2.0
METHOD:PUBLISH
BEGIN:VEVENT
DTSTART:20261213T100000Z
DTEND:20261213T110000Z
LOCATION:Kapelle Oberhof\, \,
TRANSP:OPAQUE
SEQUENCE:0
UID:1634-veranstaltung@ref-frick.ch
DTSTAMP:20260420T182025Z
DESCRIPTION:Matthias Jäggi\, Pfarrer\nTeun Braken\, Organist\n\nKollekte:
  ACAT Schweiz\n\nKontakt: ref.frick@ref-frick.ch\n\nWeitere Infos:
  https://www.ref-frick.ch/veranstaltung/1634
SUMMARY:Gottesdienst in der Kapelle Oberhof
PRIORITY:5
X-MICROSOFT-CDO-IMPORTANCE:1
CLASS:PUBLIC
END:VEVENT
END:VCALENDAR
