BEGIN:VCALENDAR
PRODID:-//kirchenweb.ch gmbh//veranstaltungsausgabe v2.0//DE
VERSION:2.0
METHOD:PUBLISH
BEGIN:VEVENT
DTSTART:20261215T190000Z
DTEND:20261215T200000Z
LOCATION:\, \,
TRANSP:OPAQUE
SEQUENCE:0
UID:1635-veranstaltung@ref-frick.ch
DTSTAMP:20260420T212025Z
DESCRIPTION:Kontakt: ref.frick@ref-frick.ch\n\nWeitere Infos:
  https://www.ref-frick.ch/veranstaltung/1635
SUMMARY:Adventsbibellesen Lk 9-15
PRIORITY:5
X-MICROSOFT-CDO-IMPORTANCE:1
CLASS:PUBLIC
END:VEVENT
END:VCALENDAR
