BEGIN:VCALENDAR
PRODID:-//kirchenweb.ch gmbh//veranstaltungsausgabe v2.0//DE
VERSION:2.0
METHOD:PUBLISH
BEGIN:VEVENT
DTSTART:20261222T190000Z
DTEND:20261222T200000Z
LOCATION:Jugendraum (Mühlerain 10\, Frick\, Aargau 5070\, CH)\, \,
TRANSP:OPAQUE
SEQUENCE:0
UID:1640-veranstaltung@ref-frick.ch
DTSTAMP:20260425T150027Z
DESCRIPTION:Kontakt: ref.frick@ref-frick.ch\n\nWeitere Infos:
  https://www.ref-frick.ch/veranstaltung/1640
SUMMARY:Adventsbibellesen: Lk 16-22
PRIORITY:5
X-MICROSOFT-CDO-IMPORTANCE:1
CLASS:PUBLIC
END:VEVENT
END:VCALENDAR
