BEGIN:VCALENDAR
PRODID:-//kirchenweb.ch gmbh//veranstaltungsausgabe v2.0//DE
VERSION:2.0
METHOD:PUBLISH
BEGIN:VEVENT
DTSTART:20270120T160000Z
DTEND:20270120T173000Z
LOCATION:\, \,
TRANSP:OPAQUE
SEQUENCE:0
UID:1653-veranstaltung@ref-frick.ch
DTSTAMP:20260420T172033Z
DESCRIPTION:Kontakt: ref.frick@ref-frick.ch\n\nWeitere Infos:
  https://www.ref-frick.ch/veranstaltung/1653
SUMMARY:Elternapéro 5. Klasse
PRIORITY:5
X-MICROSOFT-CDO-IMPORTANCE:1
CLASS:PUBLIC
END:VEVENT
END:VCALENDAR
