BEGIN:VCALENDAR
PRODID:-//kirchenweb.ch gmbh//veranstaltungsausgabe v2.0//DE
VERSION:2.0
METHOD:PUBLISH
BEGIN:VEVENT
DTSTART:20270122T180000Z
DTEND:20270122T200000Z
LOCATION:Ref. Kirche Frick\, \,
TRANSP:OPAQUE
SEQUENCE:0
UID:1654-veranstaltung@ref-frick.ch
DTSTAMP:20260420T135031Z
DESCRIPTION:Los geht's! Gemeinsam machen wir uns auf den Weg und entdecken
  in sechs Jugendgottesdiensten die zentralen Botschaften des christlichen
  Glaubens.\n\nDer Unterricht für die 7. Klasse findet in Form von
  altersgerechten Gottesdiensten in der Kirche statt. Ausgehend von einer
  biblischen Geschichte hören wir von Gottes Angebot für unser Leben.
  Lebensgeschichten aus Vergangenheit und Gegenwart helfen uns dabei\, die
  Botschaft auf unser eigenes Leben zu übertragen.\n\nIm Anschluss an den
  Gottesdienst treffen wir uns zu einem fröhlichen Beisammensein im
  Kirchgemeindehaus. Dieser Teil wird von Schülerinnen und Schülern der
  8. und 9. Klasse gestaltet. Sie organisieren Spiele wie Werwölfe von
  Düsterwald oder Reise nach Jerusalem und sorgen mit den beliebten Hot
  Dogs für eine kleine Stärkung.\n\nDer Jugendgottesdienst Let's Go! ist
  für die Schülerinnen und Schüler der 7. Klasse zugleich ihr
  Unterricht. Er ist aber auch ein öffentlicher Gottesdienst und steht
  allen Interessierten offen.\n\nKontakt: ref.frick@ref-frick.ch\n\nWeitere
  Infos: https://www.ref-frick.ch/veranstaltung/1654
SUMMARY:Let's Go! Jugendgottesdienst
PRIORITY:5
X-MICROSOFT-CDO-IMPORTANCE:1
CLASS:PUBLIC
END:VEVENT
END:VCALENDAR
