BEGIN:VCALENDAR
PRODID:-//kirchenweb.ch gmbh//veranstaltungsausgabe v2.0//DE
VERSION:2.0
METHOD:PUBLISH
BEGIN:VEVENT
DTSTART:20270114T110000Z
DTEND:20270114T123000Z
LOCATION:Ref. Kirche Frick\, \,
TRANSP:OPAQUE
SEQUENCE:0
UID:1658-veranstaltung@ref-frick.ch
DTSTAMP:20260420T214028Z
DESCRIPTION:Vier aufgestellte und ideenreiche Teams kochen abwechselnd
  für Sie! Kosten: Erwachsenen Fr. 10.-- / Schulkinder Fr. 5.-- /
  Vorschulkinder gratis\n\nAnmeldung bis Dienstagabend 17.00 Uhr an Ute
  Baldinger\, Diakonie\nTel. 062 871 11 58 oder Mail
  ute.baldinger@ref-frick.ch\n\nKontakt: ref.frick@ref-frick.ch\n\nWeitere
  Infos: https://www.ref-frick.ch/veranstaltung/1658
SUMMARY:Mittagstisch
PRIORITY:5
X-MICROSOFT-CDO-IMPORTANCE:1
CLASS:PUBLIC
END:VEVENT
END:VCALENDAR
