BEGIN:VCALENDAR
PRODID:-//kirchenweb.ch gmbh//veranstaltungsausgabe v2.0//DE
VERSION:2.0
METHOD:PUBLISH
BEGIN:VEVENT
DTSTART:20261012T110000Z
DTEND:20261012T130000Z
LOCATION:Kirchgemeindehaus Frick\, Mühlerain 10\, 5070  Frick
TRANSP:OPAQUE
SEQUENCE:0
UID:964-veranstaltung@ref-frick.ch
DTSTAMP:20251104T125725Z
DESCRIPTION:Kontakt: Ute Baldinger\n\nWeitere Infos:
  https://www.ref-frick.ch/veranstaltung/964
SUMMARY:Tischlein deck dich
PRIORITY:5
X-MICROSOFT-CDO-IMPORTANCE:1
CLASS:PUBLIC
END:VEVENT
END:VCALENDAR
